BEGIN:VCALENDAR
VERSION:2.0
PRODID:-//Sultan Al-Abdulla &amp; Partners - ECPv6.7.1//NONSGML v1.0//EN
CALSCALE:GREGORIAN
METHOD:PUBLISH
X-WR-CALNAME:Sultan Al-Abdulla &amp; Partners
X-ORIGINAL-URL:https://qatarlaw.com
X-WR-CALDESC:Events for Sultan Al-Abdulla &amp; Partners
REFRESH-INTERVAL;VALUE=DURATION:PT1H
X-Robots-Tag:noindex
X-PUBLISHED-TTL:PT1H
BEGIN:VTIMEZONE
TZID:Europe/Moscow
BEGIN:STANDARD
TZOFFSETFROM:+0300
TZOFFSETTO:+0300
TZNAME:MSK
DTSTART:20240101T000000
END:STANDARD
END:VTIMEZONE
BEGIN:VEVENT
DTSTART;TZID=Europe/Moscow:20240425T090000
DTEND;TZID=Europe/Moscow:20240425T180000
DTSTAMP:20260422T213014
CREATED:20240428T070740Z
LAST-MODIFIED:20240428T071054Z
UID:27760-1714035600-1714068000@qatarlaw.com
SUMMARY:Doha Arbitration Day
DESCRIPTION:Sultan Al-Abdulla & Partners\, Quantum Global Solutions\, and Al-Henzab & Partners Law Firm are pleased to invite you to an engaging discussion focusing on common issues in construction disputes.Topics of discussion will include disruption\, where unforeseen events impact project timelines and costs\, and proactive claim and contract management to mitigate risks and handle disputes effectively. Attendees will also learn strategies for working with experts and witnesses\, as well as effective methodologies for analysing and managing project delays. \n.
URL:https://qatarlaw.com/event/doha-arbitration-day
LOCATION:Mandarin Oriental\, Doha\, Mandarin Oriental\, Barahat Msheireb St\, Doha\, Qatar
ATTACH;FMTTYPE=image/jpeg:https://qatarlaw.com/wp-content/uploads/2024/04/Doha-Arbitration-Day-high-res.jpg
END:VEVENT
END:VCALENDAR